BEGIN:VCALENDAR
VERSION:2.0
PRODID:-//Mullion Surf Lifesaving Club - ECPv6.15.20//NONSGML v1.0//EN
CALSCALE:GREGORIAN
METHOD:PUBLISH
X-WR-CALNAME:Mullion Surf Lifesaving Club
X-ORIGINAL-URL:https://mullionslsc.org.uk
X-WR-CALDESC:Events for Mullion Surf Lifesaving Club
REFRESH-INTERVAL;VALUE=DURATION:PT1H
X-Robots-Tag:noindex
X-PUBLISHED-TTL:PT1H
BEGIN:VTIMEZONE
TZID:UTC
BEGIN:STANDARD
TZOFFSETFROM:+0000
TZOFFSETTO:+0000
TZNAME:UTC
DTSTART:20240101T000000
END:STANDARD
END:VTIMEZONE
BEGIN:VEVENT
DTSTART;TZID=UTC:20250308T000000
DTEND;TZID=UTC:20250309T235959
DTSTAMP:20260424T130525
CREATED:20250219T073408Z
LAST-MODIFIED:20250219T073408Z
UID:860-1741392000-1741564799@mullionslsc.org.uk
SUMMARY:Cornish Surf Championships Nippers
DESCRIPTION:
URL:https://mullionslsc.org.uk/event/cornish-surf-championships-nippers/
LOCATION:Penzance Leisure Centre\, St Clare Street\, St Clare\, Penzance\, TR18 3QW\, United Kingdom
END:VEVENT
BEGIN:VEVENT
DTSTART;TZID=UTC:20250309T080000
DTEND;TZID=UTC:20250309T170000
DTSTAMP:20260424T130525
CREATED:20250205T073722Z
LAST-MODIFIED:20250205T073722Z
UID:831-1741507200-1741539600@mullionslsc.org.uk
SUMMARY:Frostbite Day 2
DESCRIPTION:Girls and boys 11/12/13 – Born 2012/2013/2014 \nMore information on our facbook pages\, including payment and T-Shirt information.
URL:https://mullionslsc.org.uk/event/frostbite-day-2/
LOCATION:Penzance Leisure Centre\, St Clare Street\, St Clare\, Penzance\, TR18 3QW\, United Kingdom
ORGANIZER;CN="Lorraine Brown":MAILTO:lozbrown70@gmail.com
END:VEVENT
END:VCALENDAR