BEGIN:VCALENDAR
VERSION:2.0
PRODID:-//Mullion Surf Lifesaving Club - ECPv6.15.20//NONSGML v1.0//EN
CALSCALE:GREGORIAN
METHOD:PUBLISH
X-WR-CALNAME:Mullion Surf Lifesaving Club
X-ORIGINAL-URL:https://mullionslsc.org.uk
X-WR-CALDESC:Events for Mullion Surf Lifesaving Club
REFRESH-INTERVAL;VALUE=DURATION:PT1H
X-Robots-Tag:noindex
X-PUBLISHED-TTL:PT1H
BEGIN:VTIMEZONE
TZID:UTC
BEGIN:STANDARD
TZOFFSETFROM:+0000
TZOFFSETTO:+0000
TZNAME:UTC
DTSTART:20250101T000000
END:STANDARD
END:VTIMEZONE
BEGIN:VEVENT
DTSTART;TZID=UTC:20260620T080000
DTEND;TZID=UTC:20260621T170000
DTSTAMP:20260421T172659
CREATED:20260419T210931Z
LAST-MODIFIED:20260419T210931Z
UID:1224-1781942400-1782061200@mullionslsc.org.uk
SUMMARY:Cornish Youth
DESCRIPTION:Polzeth
URL:https://mullionslsc.org.uk/event/cornish-youth/
END:VEVENT
END:VCALENDAR