BEGIN:VCALENDAR
VERSION:2.0
PRODID:-//Mullion Surf Lifesaving Club - ECPv6.15.20//NONSGML v1.0//EN
CALSCALE:GREGORIAN
METHOD:PUBLISH
X-WR-CALNAME:Mullion Surf Lifesaving Club
X-ORIGINAL-URL:https://mullionslsc.org.uk
X-WR-CALDESC:Events for Mullion Surf Lifesaving Club
REFRESH-INTERVAL;VALUE=DURATION:PT1H
X-Robots-Tag:noindex
X-PUBLISHED-TTL:PT1H
BEGIN:VTIMEZONE
TZID:UTC
BEGIN:STANDARD
TZOFFSETFROM:+0000
TZOFFSETTO:+0000
TZNAME:UTC
DTSTART:20230101T000000
END:STANDARD
END:VTIMEZONE
BEGIN:VEVENT
DTSTART;TZID=UTC:20240814T150000
DTEND;TZID=UTC:20240814T170000
DTSTAMP:20260422T011920
CREATED:20240713T154310Z
LAST-MODIFIED:20250426T080924Z
UID:312-1723647600-1723654800@mullionslsc.org.uk
SUMMARY:Example Ticket Event
DESCRIPTION:Again \, slides\, weblinks or Slideshows or just info!
URL:https://mullionslsc.org.uk/event/example-ticket-event/
LOCATION:Helston Leisure Centre\, Church Hill\, Helston\, Cornwall\, TR13 8YQ\, United Kingdom
ORGANIZER;CN="Dave Musk":MAILTO:membership@mullionslsc.org.uk
END:VEVENT
END:VCALENDAR