BEGIN:VCALENDAR
VERSION:2.0
PRODID:-//Mullion Surf Lifesaving Club - ECPv6.15.20//NONSGML v1.0//EN
CALSCALE:GREGORIAN
METHOD:PUBLISH
X-WR-CALNAME:Mullion Surf Lifesaving Club
X-ORIGINAL-URL:https://mullionslsc.org.uk
X-WR-CALDESC:Events for Mullion Surf Lifesaving Club
REFRESH-INTERVAL;VALUE=DURATION:PT1H
X-Robots-Tag:noindex
X-PUBLISHED-TTL:PT1H
BEGIN:VTIMEZONE
TZID:UTC
BEGIN:STANDARD
TZOFFSETFROM:+0000
TZOFFSETTO:+0000
TZNAME:UTC
DTSTART:20230101T000000
END:STANDARD
END:VTIMEZONE
BEGIN:VEVENT
DTSTART;TZID=UTC:20241002T193000
DTEND;TZID=UTC:20241002T203000
DTSTAMP:20260424T203501
CREATED:20240918T124014Z
LAST-MODIFIED:20240918T124014Z
UID:709-1727897400-1727901000@mullionslsc.org.uk
SUMMARY:Pool Session - Nipper
DESCRIPTION:Hats should be worn (available on night or from our website at £5)
URL:https://mullionslsc.org.uk/event/pool-session-nipper/
LOCATION:Helston Leisure Centre\, Church Hill\, Helston\, Cornwall\, TR13 8YQ\, United Kingdom
ORGANIZER;CN="Dave Musk":MAILTO:membership@mullionslsc.org.uk
END:VEVENT
BEGIN:VEVENT
DTSTART;TZID=UTC:20241009T193000
DTEND;TZID=UTC:20241009T203000
DTSTAMP:20260424T203501
CREATED:20240918T124120Z
LAST-MODIFIED:20240918T124120Z
UID:711-1728502200-1728505800@mullionslsc.org.uk
SUMMARY:Pool Session - Nipper
DESCRIPTION:Hats should be worn (available on night or from our website at £5)
URL:https://mullionslsc.org.uk/event/pool-session-nipper-2/
LOCATION:Helston Leisure Centre\, Church Hill\, Helston\, Cornwall\, TR13 8YQ\, United Kingdom
ORGANIZER;CN="Dave Musk":MAILTO:membership@mullionslsc.org.uk
END:VEVENT
BEGIN:VEVENT
DTSTART;TZID=UTC:20241016T193000
DTEND;TZID=UTC:20241016T203000
DTSTAMP:20260424T203501
CREATED:20240918T124336Z
LAST-MODIFIED:20240918T124336Z
UID:716-1729107000-1729110600@mullionslsc.org.uk
SUMMARY:Pool Session - Nipper
DESCRIPTION:Hats should be worn (available on night or from our website at £5)
URL:https://mullionslsc.org.uk/event/pool-session-nipper-3/
LOCATION:Helston Leisure Centre\, Church Hill\, Helston\, Cornwall\, TR13 8YQ\, United Kingdom
ORGANIZER;CN="Dave Musk":MAILTO:membership@mullionslsc.org.uk
END:VEVENT
BEGIN:VEVENT
DTSTART;TZID=UTC:20241023T193000
DTEND;TZID=UTC:20241023T203000
DTSTAMP:20260424T203501
CREATED:20240918T124429Z
LAST-MODIFIED:20240918T124429Z
UID:718-1729711800-1729715400@mullionslsc.org.uk
SUMMARY:Pool Session - Nipper
DESCRIPTION:Hats should be worn (available on night or from our website at £5)
URL:https://mullionslsc.org.uk/event/pool-session-nipper-4/
LOCATION:Helston Leisure Centre\, Church Hill\, Helston\, Cornwall\, TR13 8YQ\, United Kingdom
ORGANIZER;CN="Dave Musk":MAILTO:membership@mullionslsc.org.uk
END:VEVENT
BEGIN:VEVENT
DTSTART;TZID=UTC:20241030T000000
DTEND;TZID=UTC:20241030T235959
DTSTAMP:20260424T203501
CREATED:20240811T164000Z
LAST-MODIFIED:20240918T123749Z
UID:416-1730246400-1730332799@mullionslsc.org.uk
SUMMARY:NO POOL SESSION - Half Term
DESCRIPTION:
URL:https://mullionslsc.org.uk/event/no-pool-session-half-term/
ORGANIZER;CN="Dave Musk":MAILTO:membership@mullionslsc.org.uk
END:VEVENT
END:VCALENDAR