BEGIN:VCALENDAR
VERSION:2.0
PRODID:-//Mullion Surf Lifesaving Club - ECPv6.15.20//NONSGML v1.0//EN
CALSCALE:GREGORIAN
METHOD:PUBLISH
X-WR-CALNAME:Mullion Surf Lifesaving Club
X-ORIGINAL-URL:https://mullionslsc.org.uk
X-WR-CALDESC:Events for Mullion Surf Lifesaving Club
REFRESH-INTERVAL;VALUE=DURATION:PT1H
X-Robots-Tag:noindex
X-PUBLISHED-TTL:PT1H
BEGIN:VTIMEZONE
TZID:UTC
BEGIN:STANDARD
TZOFFSETFROM:+0000
TZOFFSETTO:+0000
TZNAME:UTC
DTSTART:20230101T000000
END:STANDARD
END:VTIMEZONE
BEGIN:VEVENT
DTSTART;TZID=UTC:20241204T193000
DTEND;TZID=UTC:20241204T203000
DTSTAMP:20260424T164510
CREATED:20240918T124827Z
LAST-MODIFIED:20240918T124827Z
UID:728-1733340600-1733344200@mullionslsc.org.uk
SUMMARY:Pool Session - Nipper
DESCRIPTION:Hats should be worn (available on night or from our website at £5)
URL:https://mullionslsc.org.uk/event/pool-session-nipper-9/
LOCATION:Helston Leisure Centre\, Church Hill\, Helston\, Cornwall\, TR13 8YQ\, United Kingdom
ORGANIZER;CN="Dave Musk":MAILTO:membership@mullionslsc.org.uk
END:VEVENT
END:VCALENDAR