BEGIN:VCALENDAR
VERSION:2.0
PRODID:-//Mullion Surf Lifesaving Club - ECPv6.15.20//NONSGML v1.0//EN
CALSCALE:GREGORIAN
METHOD:PUBLISH
X-ORIGINAL-URL:https://mullionslsc.org.uk
X-WR-CALDESC:Events for Mullion Surf Lifesaving Club
REFRESH-INTERVAL;VALUE=DURATION:PT1H
X-Robots-Tag:noindex
X-PUBLISHED-TTL:PT1H
BEGIN:VTIMEZONE
TZID:UTC
BEGIN:STANDARD
TZOFFSETFROM:+0000
TZOFFSETTO:+0000
TZNAME:UTC
DTSTART:20250101T000000
END:STANDARD
END:VTIMEZONE
BEGIN:VEVENT
DTSTART;TZID=UTC:20260801T080000
DTEND;TZID=UTC:20260802T170000
DTSTAMP:20260421T191243
CREATED:20260419T211101Z
LAST-MODIFIED:20260419T211101Z
UID:1228-1785571200-1785690000@mullionslsc.org.uk
SUMMARY:Cornish Masters Date TBC
DESCRIPTION:Porthreath
URL:https://mullionslsc.org.uk/event/cornish-masters-date-tbc/
END:VEVENT
BEGIN:VEVENT
DTSTART;TZID=UTC:20260815T080000
DTEND;TZID=UTC:20260816T170000
DTSTAMP:20260421T191243
CREATED:20260419T211140Z
LAST-MODIFIED:20260419T211140Z
UID:1230-1786780800-1786899600@mullionslsc.org.uk
SUMMARY:Masters Nationals
DESCRIPTION:Holywell
URL:https://mullionslsc.org.uk/event/masters-nationals/
END:VEVENT
BEGIN:VEVENT
DTSTART;TZID=UTC:20260817T080000
DTEND;TZID=UTC:20260819T170000
DTSTAMP:20260421T191243
CREATED:20260419T211014Z
LAST-MODIFIED:20260419T211014Z
UID:1226-1786953600-1787158800@mullionslsc.org.uk
SUMMARY:Youth Nationals
DESCRIPTION:Holywell
URL:https://mullionslsc.org.uk/event/youth-nationals/
END:VEVENT
BEGIN:VEVENT
DTSTART;TZID=UTC:20260820T080000
DTEND;TZID=UTC:20260821T170000
DTSTAMP:20260421T191243
CREATED:20260419T210848Z
LAST-MODIFIED:20260419T210848Z
UID:1222-1787212800-1787331600@mullionslsc.org.uk
SUMMARY:Nipper Nationals
DESCRIPTION:Holywell
URL:https://mullionslsc.org.uk/event/nipper-nationals/
END:VEVENT
END:VCALENDAR